
BEGIN:VCALENDAR
VERSION:2.0
PRODID:-//Ogallala Water - ECPv4.8.2//NONSGML v1.0//EN
CALSCALE:GREGORIAN
METHOD:PUBLISH
X-WR-CALNAME:Ogallala Water
X-ORIGINAL-URL:http://ogallalawater.org
X-WR-CALDESC:Events for Ogallala Water
BEGIN:VEVENT
DTSTART;TZID=America/Chicago:20180830T100000
DTEND;TZID=America/Chicago:20180830T130000
DTSTAMP:20260424T043816
CREATED:20180807T192354Z
LAST-MODIFIED:20180807T192419Z
UID:2143-1535623200-1535634000@ogallalawater.org
SUMMARY:Circle C Water Tech Farm field day (Scott Cty\, KS)
DESCRIPTION:\n\nThe Circle C Water Technology Farm is owned and operated by Steve Compton. The farm is located 8 miles west of Healy\, Kansas off Highway 4 at the intersection with N Taos Rd. Several technologies are used at Circle C\, including EC soils mapping of all fields\, soil moisture probes\, variable rate irrigation\, iWob and Bubbler nozzles\, and aerial imagery. \nThe Water Technology Farm started with Steve’s enrollment into a Water Conservation Area and the goal of maintaining production while increasing water use efficiency. The three fields that make up the farm have had field mapping completed to identify management zones and locate where soil moisture proves were to be installed. The large pivot is the site of some water application comparisons with different nozzle packages and variable rate irrigation. Aerial imagery is being collected to monitor the results and then evaluate the impacts of different water management strategies. Learn more from the Kansas Water Office about the Circle C Water Tech Farm.  \nGoogle Map of Circle C Farms field day location.  \nThis event on August 30 will begin at 10:00 a.m. For more information email kwo-​info@​kwo.​ks.​gov or call (785) 296-​3185. \n\n\nClick here for more information about Water Technology Farm field days from Southwest Research-​Extension Center.\n
URL:http://ogallalawater.org/event/circle-c-water-tech-farm-field-day-scott-cty-ks/
ORGANIZER;CN="Kansas%20Water%20Office":MAILTO:kwo-info@kwo.ks.gov
END:VEVENT
END:VCALENDAR