
BEGIN:VCALENDAR
VERSION:2.0
PRODID:-//Ogallala Water - ECPv4.8.2//NONSGML v1.0//EN
CALSCALE:GREGORIAN
METHOD:PUBLISH
X-WR-CALNAME:Ogallala Water
X-ORIGINAL-URL:http://ogallalawater.org
X-WR-CALDESC:Events for Ogallala Water
BEGIN:VEVENT
DTSTART;TZID=America/Chicago:20180831T100000
DTEND;TZID=America/Chicago:20180831T130000
DTSTAMP:20260424T011435
CREATED:20180807T193817Z
LAST-MODIFIED:20180807T193916Z
UID:2149-1535709600-1535720400@ogallalawater.org
SUMMARY:Harshberger Water Tech Farm field day (Ford Cty\, KS)
DESCRIPTION:The Harshberger Water Technology Farm is owned and operated by Gary Harshberger. The farm is located approximately 3 miles south of Dodge City\, Kansas off of Highway 283 at the intersection with Primrose Rd. The Harshberger Technology Farm utilizes soil moisture probes for irrigation management and mobile drip irrigation. Kansas Water Office webpage about this farm.  \nThis event on August 31 will begin at 10:00 am. For more information email kwo-​info@​kwo.​ks.​gov or call (785) 296-​3185. \nGoogle map for the Harshberger Water Tech Farm field day location \nClick here for more information about Water Technology Farm field days from Southwest Research-​Extension Center. \n
URL:http://ogallalawater.org/event/harshberger-water-tech-farm-field-day-ford-cty-ks/
ORGANIZER;CN="Kansas%20Water%20Office":MAILTO:kwo-info@kwo.ks.gov
END:VEVENT
END:VCALENDAR