
BEGIN:VCALENDAR
VERSION:2.0
PRODID:-//Ogallala Water - ECPv4.8.2//NONSGML v1.0//EN
CALSCALE:GREGORIAN
METHOD:PUBLISH
X-WR-CALNAME:Ogallala Water
X-ORIGINAL-URL:http://ogallalawater.org
X-WR-CALDESC:Events for Ogallala Water
BEGIN:VEVENT
DTSTART;TZID=America/Chicago:20180828T140000
DTEND;TZID=America/Chicago:20180828T170000
DTSTAMP:20260424T111209
CREATED:20180807T173552Z
LAST-MODIFIED:20180807T173616Z
UID:2126-1535464800-1535475600@ogallalawater.org
SUMMARY:Hatcher Land & Cattle Water Tech Farm field day (Seward Cty\, KS)
DESCRIPTION:The Hatcher Water Technology Farm is owned and operated by Nick Hatcher. The farm is located 6 miles north of Liberal off Highway 83 in Seward County\, Kansas. \nThe Water Technology Farm started with Nick’s enrollment into a Water Conservation Area and the goal of maintaining production while increasing water use efficiency and reducing wheel track issues. The two fields that make up the farm have had field mapping completed to identify management zones and locate where soil moisture probes were to be installed. One pivot is the site of water application comparisons with different nozzle packages. Another field has plant-​based sensors being used to manage plant stress. Aerial imagery is being collected to monitor the results and then evaluate the impacts of different water management strategies. Read more about the Hatcher Land & Cattle Water Tech Farm from the Kansas Water Office.  \n\n\nThe field day starts at 2 p.m. CDT. For more information email kwo-​info@​kwo.​ks.​gov or call (785) 296-​3185. \n\n\nClick here for more information about Water Technology Farm field days from Southwest Research-​Extension Center.\n
URL:http://ogallalawater.org/event/hatcher-land-cattle-water-tech-farm-field-day-seward-cty-ks/
ORGANIZER;CN="Kansas%20Water%20Office":MAILTO:kwo-info@kwo.ks.gov
END:VEVENT
END:VCALENDAR