
BEGIN:VCALENDAR
VERSION:2.0
PRODID:-//Ogallala Water - ECPv4.8.2//NONSGML v1.0//EN
CALSCALE:GREGORIAN
METHOD:PUBLISH
X-WR-CALNAME:Ogallala Water
X-ORIGINAL-URL:http://ogallalawater.org
X-WR-CALDESC:Events for Ogallala Water
BEGIN:VEVENT
DTSTART;TZID=America/Denver:20181113T080000
DTEND;TZID=America/Denver:20181114T170000
DTSTAMP:20260423T214123
CREATED:20181107T160259Z
LAST-MODIFIED:20181119T165927Z
UID:2524-1542096000-1542214800@ogallalawater.org
SUMMARY:Kansas Governor's Water Conference
DESCRIPTION:The annual Governor’s Conference on the Future of Water in Kansas will be held November 13-​14\, 2018 at the Hilton Garden Inn and Conference Center in Manhattan\, Kansas. Each year\, the conference brings together several hundred scientists\, water managers\, state and federal officials and legislators\, city and county administrators\, environmental organizations\, irrigators and citizens who share an interest in Kansas water resources. The Ogallala Water CAP is one of this event’s sponsors. Event website: https://kwo.ks.gov/news-events/governor’s-water-conference \n
URL:http://ogallalawater.org/event/kansas-governors-water-conference/
LOCATION:Hilton Inn and Conference Center\, 410 S 3rd St\, Manhattan\, KS\, 66502\, United States
ORGANIZER;CN="Kansas%20Water%20Office":MAILTO:kwo-info@kwo.ks.gov
END:VEVENT
END:VCALENDAR