
BEGIN:VCALENDAR
VERSION:2.0
PRODID:-//Ogallala Water - ECPv4.8.2//NONSGML v1.0//EN
CALSCALE:GREGORIAN
METHOD:PUBLISH
X-WR-CALNAME:Ogallala Water
X-ORIGINAL-URL:http://ogallalawater.org
X-WR-CALDESC:Events for Ogallala Water
BEGIN:VEVENT
DTSTART;TZID=America/Denver:20180829T093000
DTEND;TZID=America/Denver:20180829T160000
DTSTAMP:20260424T081626
CREATED:20180807T190313Z
LAST-MODIFIED:20180807T191846Z
UID:2139-1535535000-1535558400@ogallalawater.org
SUMMARY:NWKTC Water Tech Farm field day (Sherman Cty\, KS)
DESCRIPTION:\n\nCheck out the latest agriculture technology products and services at this Field Day and Ag Expo! Featuring: \n\ncurrent updates about water awareness\nan overview of Northwest Kansas Technical College’s (NWKTC) Water Technology Farm\nproducers sharing their experience with adopting new technologies\ntime to visit with exhibitors and see some of the technologies in use\nDoor prizes!\n\nThe events from 9:30-1:30 are at the Union on the Northwest Tech campus\, and events from 1:30-4:00 are at the Tech Farm: 1303 E. 8th\, Goodland. The day ends with a benefit auction hosted by Big Iron - proceeds will go to local FFA programs and the precision ag tech program at Northwest Tech. \nVisit http://​www​.agriculture​.ks​.gov/​A​g​T​e​c​h​E​x​p​o18 for a detailed agenda and to access the registration link. Please register by August 17. For more information about the Expo\, visit: http://​www​.agriculture​.ks​.gov/​n​e​w​s​-​e​v​e​n​t​s​/​n​e​w​s​-​r​e​l​e​a​s​e​s​/​2​0​1​8​/​0​7​/​1​9​/​a​g​-​t​e​c​h​-​e​x​p​o​-​t​o​-​b​e​-​h​e​l​d​-​i​n​-​g​o​o​d​l​and \nAbout: The Northwest Kansas Water Technology Farm Initiative hosted by NWKTC aims to encourage and support producer adoption of new technologies. The program engages in R&D related to irrigation equipment and management practices and provides hands-​on training and workforce development for Northwest Tech Ag students through their Precision Agriculture Technology program\, their 240-​acre Technology Farm and in securing internships for students with regional water technology providers. \nThe field day starts at 9:30 a.m. MT (note that Goodland is in Mountain Time Zone). For more information email kwo-​info@​kwo.​ks.​gov or call (785) 296-​3185. \n\n\n\n\n\nGoogle map location for this field day\n\n\n\n\nClick here for more information about Water Technology Farm field days from Southwest Research-​Extension Center.\n
URL:http://ogallalawater.org/event/nwktc-water-tech-farm-field-day-sherman-cty-ks/
LOCATION:Northwest Kansas Technical College\, 1209 Harrison Ave\, Goodland\, KS\, 67735\, United States
ORGANIZER;CN="Kansas%20Water%20Office":MAILTO:kwo-info@kwo.ks.gov
END:VEVENT
END:VCALENDAR