
BEGIN:VCALENDAR
VERSION:2.0
PRODID:-//Ogallala Water - ECPv4.8.2//NONSGML v1.0//EN
CALSCALE:GREGORIAN
METHOD:PUBLISH
X-WR-CALNAME:Ogallala Water
X-ORIGINAL-URL:http://ogallalawater.org
X-WR-CALDESC:Events for Ogallala Water
BEGIN:VEVENT
DTSTART;TZID=America/New_York:20181105T093000
DTEND;TZID=America/New_York:20181105T113000
DTSTAMP:20260423T214108
CREATED:20181002T225249Z
LAST-MODIFIED:20181002T225249Z
UID:2372-1541410200-1541417400@ogallalawater.org
SUMMARY:Ogallala Water CAP symposium at ASA/CSSA meeting
DESCRIPTION:Symposium title: Soil and Water Management for Irrigation Efficiency and Soil Sustainability \nOverview: This symposium will emphasize on crop land irrigation practices necessary for sustainability to optimize water and land resources. Irrigation for food production is key to meeting world population growth. However\, as water declines in aquifer systems or transfers to municipalities limit water availability\, limited/​deficit irrigation practices will be necessary for sustainability to optimize water and land resources. Soil erosion may also occur using a sprinkler irrigation as the rate of water application exceeds the soil infiltration rate or with furrow irrigation on the land with slope greater than 1%. \n1 W Pratt St\, Baltimore\, MD 21201\, Baltimore\, MD 21201\, Baltimore\, MD 21201 \n
URL:http://ogallalawater.org/event/ogallala-water-cap-symposium-at-asa-cssa-meeting/
LOCATION:Baltimore Convention Center\, 1 W Pratt St\, Baltimore\, 21201\, United States
END:VEVENT
END:VCALENDAR