
BEGIN:VCALENDAR
VERSION:2.0
PRODID:-//Ogallala Water - ECPv4.8.2//NONSGML v1.0//EN
CALSCALE:GREGORIAN
METHOD:PUBLISH
X-WR-CALNAME:Ogallala Water
X-ORIGINAL-URL:http://ogallalawater.org
X-WR-CALDESC:Events for Ogallala Water
BEGIN:VEVENT
DTSTART;TZID=America/Denver:20181205T080000
DTEND;TZID=America/Denver:20181206T170000
DTSTAMP:20260423T234207
CREATED:20181107T160933Z
LAST-MODIFIED:20181107T160933Z
UID:2529-1543996800-1544115600@ogallalawater.org
SUMMARY:OK Governor's Water Conference
DESCRIPTION:The annual Oklahoma Governor’s Water Conference attracts hundreds of water officials and citizens who share an avid interest in Oklahoma’s water resources management\, development\, and protection. Each year\, the latest water issues are addressed by state\, federal\, and local experts. Recipients of the Oklahoma Water Pioneer Award are recognized during a special ceremony. \nTo reserve a room at the Sheraton Midwest City Hotel\, book online or call 405-​455-​1800. The group rate for December 4-​5 is available until November 18. \nEvent website: https://​www​.owrb​.ok​.gov/​G​WC/ \n
URL:http://ogallalawater.org/event/ok-governors-water-conference/
LOCATION:Reed Conference Center\, 5750 Will Rogers Rd\, Midwest City\, OK\, 73110\, United States
END:VEVENT
END:VCALENDAR