
BEGIN:VCALENDAR
VERSION:2.0
PRODID:-//Ogallala Water - ECPv4.8.2//NONSGML v1.0//EN
CALSCALE:GREGORIAN
METHOD:PUBLISH
X-WR-CALNAME:Ogallala Water
X-ORIGINAL-URL:http://ogallalawater.org
X-WR-CALDESC:Events for Ogallala Water
BEGIN:VEVENT
DTSTART;TZID=America/Chicago:20180906T080000
DTEND;TZID=America/Chicago:20180906T170000
DTSTAMP:20260423T200227
CREATED:20180808T175034Z
LAST-MODIFIED:20180809T061013Z
UID:2193-1536220800-1536253200@ogallalawater.org
SUMMARY:(Symposium) The 2050 Challenge: The Role of Agriculture in Addressing the Global Needs
DESCRIPTION:The 2050 Challenge: The Role of Agriculture in Addressing the Global Needs \nFree. This symposium is completely organized by KSU graduate students working on various agricultural topics. We aim to bring together researchers\, farmers\, and students who are interested in exploring the global challenges in which agriculture is immersed. With distinguished keynote speakers from both academic and industrial sectors\, we aspire to generate a space for exchanging knowledge and discussing what are the most current management tools available for addressing the agricultural future needs. \nVisit https://​plantsciencesympos​.wixsite​.com/​p​l​a​n​t​s​y​m​p​o​s​ium to register\, see speakers/​topics\, find lodging and more. \n
URL:http://ogallalawater.org/event/symposium-the-2050-challenge-the-role-of-agriculture-in-addressing-the-global-needs/
LOCATION:K-​State Alumni Association Center\, 1720 Anderson Avenue\, Manhattan\, KS\, 66056\, United States
END:VEVENT
END:VCALENDAR