
BEGIN:VCALENDAR
VERSION:2.0
PRODID:-//Ogallala Water - ECPv4.8.2//NONSGML v1.0//EN
CALSCALE:GREGORIAN
METHOD:PUBLISH
X-WR-CALNAME:Ogallala Water
X-ORIGINAL-URL:http://ogallalawater.org
X-WR-CALDESC:Events for Ogallala Water
BEGIN:VEVENT
DTSTART;TZID=America/Chicago:20180906T080000
DTEND;TZID=America/Chicago:20180906T140000
DTSTAMP:20260423T214543
CREATED:20180808T174023Z
LAST-MODIFIED:20180818T053512Z
UID:2187-1536220800-1536242400@ogallalawater.org
SUMMARY:TAWC field day (Muncy\, TX)
DESCRIPTION:The 13th Annual TAWC Field Day will be held at the Floyd County Unity Center in Muncy\, Texas. This event is free of charge and lunch will be served. There will be 7 Certified Crop Advisors CEUs available.  \nPresentations will include: \n- Optimizing Using Precision Irrigation Technology in West Texas\, by Jeff Miller \n- Using PET to Develop Water Management Strategies for Cotton\, by Bob Glodt \n- Farm Bill Update and Cotton Outlook by Dr. Darren Hudson \n- Irrigation Timing Effects on Yield and Quality by Dr. Glen Ritchie \n- New Data Tools for Producers by Shawn Wade \n- Keynote Speaker will be Dean Bill Brown of Texas Tech University’s College of Agricultural Sciences and Natural Resources \nTAWC 9/​6/​18 Event Flyer with agenda \nIf you are interested in having a booth at this upcoming Field Day contact Samantha at samantha.​borgstedt@​ttu.​edu or 806.789.4177.  \n
URL:http://ogallalawater.org/event/tawc-field-day/
END:VEVENT
END:VCALENDAR