
BEGIN:VCALENDAR
VERSION:2.0
PRODID:-//Ogallala Water - ECPv4.8.2//NONSGML v1.0//EN
CALSCALE:GREGORIAN
METHOD:PUBLISH
X-WR-CALNAME:Ogallala Water
X-ORIGINAL-URL:http://ogallalawater.org
X-WR-CALDESC:Events for Ogallala Water
BEGIN:VEVENT
DTSTART;TZID=America/Denver:20181003T110000
DTEND;TZID=America/Denver:20181005T120000
DTSTAMP:20260423T181525
CREATED:20181003T145110Z
LAST-MODIFIED:20181119T165906Z
UID:2385-1538564400-1538740800@ogallalawater.org
SUMMARY:2018 Colorado Water Officials (CWOA) Annual Conference
DESCRIPTION:Project manager Amy Kremen will present on behalf of the Ogallala Water CAP team as part of an aquifer-​focused panel discussion titled “The Looming Groundwater Crisis”. \nThe 2018 CWOA Annual Conference is being hosted by Division 2 in beautiful Pueblo\, CO at the Marriott Hotel & Convention Center in Pueblo on October 3-​5\, 2018. This year’s conference is titled“H2O Above and Below”. \n \n
URL:http://ogallalawater.org/event/2018-colorado-water-officials-cwoa-annual-conference/
LOCATION:Marriott Hotel and Convention Center- Pueblo\, Colorado\, 320 Central Main St\, Pueblo\, 81003\, United States
CATEGORIES:OWCAP talks
END:VEVENT
END:VCALENDAR